BEGIN:VCALENDAR
VERSION:2.0
PRODID:-// - ECPv6.15.20//NONSGML v1.0//EN
CALSCALE:GREGORIAN
METHOD:PUBLISH
X-ORIGINAL-URL:https://textilesandstitch.co.uk
X-WR-CALDESC:Events for 
REFRESH-INTERVAL;VALUE=DURATION:PT1H
X-Robots-Tag:noindex
X-PUBLISHED-TTL:PT1H
BEGIN:VTIMEZONE
TZID:Europe/London
BEGIN:DAYLIGHT
TZOFFSETFROM:+0000
TZOFFSETTO:+0100
TZNAME:BST
DTSTART:20220327T010000
END:DAYLIGHT
BEGIN:STANDARD
TZOFFSETFROM:+0100
TZOFFSETTO:+0000
TZNAME:GMT
DTSTART:20221030T010000
END:STANDARD
BEGIN:DAYLIGHT
TZOFFSETFROM:+0000
TZOFFSETTO:+0100
TZNAME:BST
DTSTART:20230326T010000
END:DAYLIGHT
BEGIN:STANDARD
TZOFFSETFROM:+0100
TZOFFSETTO:+0000
TZNAME:GMT
DTSTART:20231029T010000
END:STANDARD
BEGIN:DAYLIGHT
TZOFFSETFROM:+0000
TZOFFSETTO:+0100
TZNAME:BST
DTSTART:20240331T010000
END:DAYLIGHT
BEGIN:STANDARD
TZOFFSETFROM:+0100
TZOFFSETTO:+0000
TZNAME:GMT
DTSTART:20241027T010000
END:STANDARD
END:VTIMEZONE
BEGIN:VEVENT
DTSTART;TZID=Europe/London:20230605T133000
DTEND;TZID=Europe/London:20230605T160000
DTSTAMP:20260424T175813
CREATED:20230531T181453Z
LAST-MODIFIED:20230531T181706Z
UID:12241-1685971800-1685980800@textilesandstitch.co.uk
SUMMARY:Wendy Hermelin - Dancing Into Textiles
DESCRIPTION:Listing Update: Please note that there is no charge for this talk as previously indicated  \n\n\n\nWendy says “I stitch\, I dance\, I walk and love being in the rawness of nature. I trained in art and dance and taught in a junior school for a while. Later I took City and Guilds creative embroidery courses and now work in the community running workshops in both art and dance.”
URL:https://textilesandstitch.co.uk/event/1-wendy-hermelin-dancing-into-textiles/
LOCATION:Kennet Valley Hall\, Kennet Valley Hall\, Lockeridge\, SN8 4EL
CATEGORIES:Group Meeting,In Hall,Speaker
ATTACH;FMTTYPE=image/jpeg:https://textilesandstitch.co.uk/wp-content/uploads/2023/01/WH0623-2-FLOWER-GARDEN-workshop-scaled.jpeg
END:VEVENT
END:VCALENDAR