BEGIN:VCALENDAR
VERSION:2.0
PRODID:-// - ECPv6.15.20//NONSGML v1.0//EN
CALSCALE:GREGORIAN
METHOD:PUBLISH
X-ORIGINAL-URL:https://textilesandstitch.co.uk
X-WR-CALDESC:Events for 
REFRESH-INTERVAL;VALUE=DURATION:PT1H
X-Robots-Tag:noindex
X-PUBLISHED-TTL:PT1H
BEGIN:VTIMEZONE
TZID:Europe/London
BEGIN:DAYLIGHT
TZOFFSETFROM:+0000
TZOFFSETTO:+0100
TZNAME:BST
DTSTART:20230326T010000
END:DAYLIGHT
BEGIN:STANDARD
TZOFFSETFROM:+0100
TZOFFSETTO:+0000
TZNAME:GMT
DTSTART:20231029T010000
END:STANDARD
BEGIN:DAYLIGHT
TZOFFSETFROM:+0000
TZOFFSETTO:+0100
TZNAME:BST
DTSTART:20240331T010000
END:DAYLIGHT
BEGIN:STANDARD
TZOFFSETFROM:+0100
TZOFFSETTO:+0000
TZNAME:GMT
DTSTART:20241027T010000
END:STANDARD
BEGIN:DAYLIGHT
TZOFFSETFROM:+0000
TZOFFSETTO:+0100
TZNAME:BST
DTSTART:20250330T010000
END:DAYLIGHT
BEGIN:STANDARD
TZOFFSETFROM:+0100
TZOFFSETTO:+0000
TZNAME:GMT
DTSTART:20251026T010000
END:STANDARD
END:VTIMEZONE
BEGIN:VEVENT
DTSTART;TZID=Europe/London:20241021T100000
DTEND;TZID=Europe/London:20241021T160000
DTSTAMP:20260424T121424
CREATED:20240902T104531Z
LAST-MODIFIED:20240904T100350Z
UID:14352-1729504800-1729526400@textilesandstitch.co.uk
SUMMARY:Experimental Mark Making and Printing Day - Ann Smith
DESCRIPTION:A fun day experimenting with unusual mark making tools and then combining these with a few new Gelli printing techniques for you to try. \n\n\n\nThis is an opportunity to create a collection of printed and painted papers which will be ready to use when you want to make cards\, wrapping paper or small art works. There will be a variety of papers to use which could also be layered. \n\n\n\nPaint will be provided and your could choose to go with traditional Christmas colours ready to use in the mini workshops in December or use any colour palette you fancy \n\n\n\nThis will be a relaxing day and you will get very messy; remember to bring an apron! The day will be structured with plenty of time to experiment and produce some interesting paper. \n\n\n\nMembers only
URL:https://textilesandstitch.co.uk/event/experimental-mark-making-and-printing-day-ann-smith/
LOCATION:Kennet Valley Hall\, Kennet Valley Hall\, Lockeridge\, SN8 4EL
CATEGORIES:In Hall,Workshop
ATTACH;FMTTYPE=image/jpeg:https://textilesandstitch.co.uk/wp-content/uploads/2024/09/IMG_4196-rotated.jpg
END:VEVENT
END:VCALENDAR